BEGIN:VCALENDAR
VERSION:2.0
PRODID:-//Sid Jacobson JCC - ECPv6.15.14//NONSGML v1.0//EN
CALSCALE:GREGORIAN
METHOD:PUBLISH
X-WR-CALNAME:Sid Jacobson JCC
X-ORIGINAL-URL:https://sjjcc.npgdev.com
X-WR-CALDESC:Events for Sid Jacobson JCC
REFRESH-INTERVAL;VALUE=DURATION:PT1H
X-Robots-Tag:noindex
X-PUBLISHED-TTL:PT1H
BEGIN:VTIMEZONE
TZID:America/New_York
BEGIN:DAYLIGHT
TZOFFSETFROM:-0500
TZOFFSETTO:-0400
TZNAME:EDT
DTSTART:20230312T070000
END:DAYLIGHT
BEGIN:STANDARD
TZOFFSETFROM:-0400
TZOFFSETTO:-0500
TZNAME:EST
DTSTART:20231105T060000
END:STANDARD
BEGIN:DAYLIGHT
TZOFFSETFROM:-0500
TZOFFSETTO:-0400
TZNAME:EDT
DTSTART:20240310T070000
END:DAYLIGHT
BEGIN:STANDARD
TZOFFSETFROM:-0400
TZOFFSETTO:-0500
TZNAME:EST
DTSTART:20241103T060000
END:STANDARD
BEGIN:DAYLIGHT
TZOFFSETFROM:-0500
TZOFFSETTO:-0400
TZNAME:EDT
DTSTART:20250309T070000
END:DAYLIGHT
BEGIN:STANDARD
TZOFFSETFROM:-0400
TZOFFSETTO:-0500
TZNAME:EST
DTSTART:20251102T060000
END:STANDARD
BEGIN:DAYLIGHT
TZOFFSETFROM:-0500
TZOFFSETTO:-0400
TZNAME:EDT
DTSTART:20260308T070000
END:DAYLIGHT
BEGIN:STANDARD
TZOFFSETFROM:-0400
TZOFFSETTO:-0500
TZNAME:EST
DTSTART:20261101T060000
END:STANDARD
END:VTIMEZONE
BEGIN:VEVENT
DTSTART;TZID=America/New_York:20251113T190000
DTEND;TZID=America/New_York:20251113T200000
DTSTAMP:20260424T010313
CREATED:20250922T155412Z
LAST-MODIFIED:20250922T155508Z
UID:10140349-1763060400-1763064000@sjjcc.npgdev.com
SUMMARY:Maccabi Games Information Session
DESCRIPTION:Join us on Zoom to learn more about the summer 2026 games and have your questions answered. To submit questions beforehand\, please email agoodman@sjjcc.org. \nRegistration is required to receive the Zoom link\, to register click here.
URL:https://sjjcc.npgdev.com/event/maccabi-games-information-session/
LOCATION:Virtual\, NY
CATEGORIES:Jewish Life + Learning,Maccabi,Sports,Teens
END:VEVENT
BEGIN:VEVENT
DTSTART;TZID=America/New_York:20240307T103000
DTEND;TZID=America/New_York:20240307T120000
DTSTAMP:20260424T010313
CREATED:20230905T213038Z
LAST-MODIFIED:20230905T213518Z
UID:10094960-1709807400-1709812800@sjjcc.npgdev.com
SUMMARY:Author Breakfast: Küntslers in Paradise by Cathleen Schine
DESCRIPTION:Mamie was only 11 when her family escaped Vienna in 1939 and made their way to Lose Angeles with other Jews escaping Hitler. Now in 2020\, Mamie tells her grandson Julian the buried stories of her years in California. This program will be presented virtually only. \n$60
URL:https://sjjcc.npgdev.com/event/author-breakfast-kuntslers-in-paradise-by-cathleen-schine/
LOCATION:Virtual\, NY
CATEGORIES:Adults,Arts + Culture,Literary Arts,Seniors,Verve 55+ Living
END:VEVENT
BEGIN:VEVENT
DTSTART;TZID=America/New_York:20240118T103000
DTEND;TZID=America/New_York:20240118T120000
DTSTAMP:20260424T010313
CREATED:20230905T212915Z
LAST-MODIFIED:20230905T212915Z
UID:10094959-1705573800-1705579200@sjjcc.npgdev.com
SUMMARY:Author Breakfast: Night Angels by Weina Dai Randel
DESCRIPTION:A moving novel about a diplomatic couple who risked their lives to help Viennese Jews escape the Nazis\, inspired by the true story of Dr. Ho Fengshan\, Righteous Among the Nations. This program will be presented virtually only. \n$60
URL:https://sjjcc.npgdev.com/event/author-breakfast-night-angels-by-weina-dai-randel/
LOCATION:Virtual\, NY
CATEGORIES:Adults,Arts + Culture,Literary Arts,Seniors,Verve 55+ Living
END:VEVENT
END:VCALENDAR