BEGIN:VCALENDAR
VERSION:2.0
PRODID:-//Sid Jacobson JCC - ECPv6.15.14//NONSGML v1.0//EN
CALSCALE:GREGORIAN
METHOD:PUBLISH
X-ORIGINAL-URL:https://sjjcc.npgdev.com
X-WR-CALDESC:Events for Sid Jacobson JCC
REFRESH-INTERVAL;VALUE=DURATION:PT1H
X-Robots-Tag:noindex
X-PUBLISHED-TTL:PT1H
BEGIN:VTIMEZONE
TZID:America/New_York
BEGIN:DAYLIGHT
TZOFFSETFROM:-0500
TZOFFSETTO:-0400
TZNAME:EDT
DTSTART:20250309T070000
END:DAYLIGHT
BEGIN:STANDARD
TZOFFSETFROM:-0400
TZOFFSETTO:-0500
TZNAME:EST
DTSTART:20251102T060000
END:STANDARD
BEGIN:DAYLIGHT
TZOFFSETFROM:-0500
TZOFFSETTO:-0400
TZNAME:EDT
DTSTART:20260308T070000
END:DAYLIGHT
BEGIN:STANDARD
TZOFFSETFROM:-0400
TZOFFSETTO:-0500
TZNAME:EST
DTSTART:20261101T060000
END:STANDARD
BEGIN:DAYLIGHT
TZOFFSETFROM:-0500
TZOFFSETTO:-0400
TZNAME:EDT
DTSTART:20270314T070000
END:DAYLIGHT
BEGIN:STANDARD
TZOFFSETFROM:-0400
TZOFFSETTO:-0500
TZNAME:EST
DTSTART:20271107T060000
END:STANDARD
END:VTIMEZONE
BEGIN:VEVENT
DTSTART;TZID=America/New_York:20260324T173000
DTEND;TZID=America/New_York:20260324T190000
DTSTAMP:20260422T181610
CREATED:20251126T151028Z
LAST-MODIFIED:20251126T151326Z
UID:10140424-1774373400-1774378800@sjjcc.npgdev.com
SUMMARY:Resilience U for Teens (3-Part Series)
DESCRIPTION:Grades: 9-12\nHelp your teen thrive with brain-based strategies to manage school\, activities\, and social pressures. Build focus\, confidence\, resilience\, and independence. Dinner served; scholarships available.\nTuesdays\, 5:30-7pm\nFebruary 24\, March 24\, April 28\n$75 members / $100 nonmembers
URL:https://sjjcc.npgdev.com/event/resilience-u-for-teens-3-part-series/2026-03-24/
LOCATION:Sid Jacobson JCC\, 300 Forest Dr\, East Hills\, NY\, 11548\, United States
CATEGORIES:Center for Psychological Resilience,Teens
GEO:40.8050284;-73.6379839
X-APPLE-STRUCTURED-LOCATION;VALUE=URI;X-ADDRESS=Sid Jacobson JCC 300 Forest Dr East Hills NY 11548 United States;X-APPLE-RADIUS=500;X-TITLE=300 Forest Dr:geo:-73.6379839,40.8050284
END:VEVENT
BEGIN:VEVENT
DTSTART;TZID=America/New_York:20260324T180000
DTEND;TZID=America/New_York:20260324T180000
DTSTAMP:20260422T181610
CREATED:20260129T162025Z
LAST-MODIFIED:20260129T162025Z
UID:10141445-1774375200-1774375200@sjjcc.npgdev.com
SUMMARY:Cancer Wellness: Nutrition for Strength\, Comfort & Healing
DESCRIPTION:Join oncology-certified dietitian Hillary Sachs for a three-session series focused on winter nourishment and digestive support. Explore how to stay energized\, manage cravings\, and reduce digestive discomfort before\, during\, and after treatment with practical\, healing‑centered nutrition tools. \nAll programs and services offered by the Nancy Marx Cancer Wellness Center\, including our workshops\, are free of charge. To register for a featured event\, please contact Joy Rubel\, LMSW\, at jrubel@sjjcc.org
URL:https://sjjcc.npgdev.com/event/cancer-wellness-nutrition-for-strength-comfort-healing/2026-03-24/
LOCATION:Sid Jacobson JCC\, 300 Forest Dr\, East Hills\, NY\, 11548\, United States
CATEGORIES:Cancer Wellness Center
GEO:40.8050284;-73.6379839
X-APPLE-STRUCTURED-LOCATION;VALUE=URI;X-ADDRESS=Sid Jacobson JCC 300 Forest Dr East Hills NY 11548 United States;X-APPLE-RADIUS=500;X-TITLE=300 Forest Dr:geo:-73.6379839,40.8050284
END:VEVENT
BEGIN:VEVENT
DTSTART;TZID=America/New_York:20260325T081500
DTEND;TZID=America/New_York:20260325T081500
DTSTAMP:20260422T181610
CREATED:20250801T170204Z
LAST-MODIFIED:20260219T160432Z
UID:10140253-1774426500-1774426500@sjjcc.npgdev.com
SUMMARY:Trip: Frick Collection & Morgan Library
DESCRIPTION:Spend a memorable day in Manhattan exploring two iconic cultural institutions. Begin with a self‑guided visit to The Frick Collection\, set inside a historic mansion and featuring remarkable Old Master paintings and decorative arts. After lunch at The Morgan Library\, enjoy a private tour showcasing rare manuscripts and early printed works. Round‑trip transportation included.\nBus departs 8:15am\n$225 per person \n 
URL:https://sjjcc.npgdev.com/event/frick-morgan-trip/
LOCATION:Sid Jacobson JCC\, 300 Forest Dr\, East Hills\, NY\, 11548\, United States
CATEGORIES:Adults,Arts + Culture
GEO:40.8050284;-73.6379839
X-APPLE-STRUCTURED-LOCATION;VALUE=URI;X-ADDRESS=Sid Jacobson JCC 300 Forest Dr East Hills NY 11548 United States;X-APPLE-RADIUS=500;X-TITLE=300 Forest Dr:geo:-73.6379839,40.8050284
END:VEVENT
BEGIN:VEVENT
DTSTART;TZID=America/New_York:20260326T080000
DTEND;TZID=America/New_York:20260326T170000
DTSTAMP:20260422T181610
CREATED:20260226T030819Z
LAST-MODIFIED:20260226T030819Z
UID:10141318-1774512000-1774544400@sjjcc.npgdev.com
SUMMARY:Executive Function 101: Focus\, Plan\, Thrive: 3-Part Series
DESCRIPTION:Learn practical\, brain-based tools to build habits\, manage time and tasks\, reduce stress\, and stay focused and in control—strategies you can use immediately.\nNEW: This class will be held via Zoom; however\, those interested in meeting in person should email mbirnbaum@sjjcc.org. Depending on interest\, we may be able to arrange for a group location to take the course together\n  \n  \nThursdays\, 7:15-8:15pm \nMarch 12\, March 26\, and April 16\n$75 members / $100 nonmembers
URL:https://sjjcc.npgdev.com/event/executive-function-101-focus-plan-thrive-3-part-series-2/2026-03-26/
LOCATION:Sid Jacobson JCC\, 300 Forest Dr\, East Hills\, NY\, 11548\, United States
CATEGORIES:Center for Psychological Resilience
GEO:40.8050284;-73.6379839
X-APPLE-STRUCTURED-LOCATION;VALUE=URI;X-ADDRESS=Sid Jacobson JCC 300 Forest Dr East Hills NY 11548 United States;X-APPLE-RADIUS=500;X-TITLE=300 Forest Dr:geo:-73.6379839,40.8050284
END:VEVENT
BEGIN:VEVENT
DTSTART;TZID=America/New_York:20260326T103000
DTEND;TZID=America/New_York:20260326T120000
DTSTAMP:20260422T181610
CREATED:20250813T151140Z
LAST-MODIFIED:20250815T221800Z
UID:10140257-1774521000-1774526400@sjjcc.npgdev.com
SUMMARY:Author Breakfast: Fagin the Thief by Allison Epstein
DESCRIPTION:A reimagining of the world created by Charles Dickens\, seen through the eyes of Jacob Fagin—Victorian literature’s notorious villain. \n$65 per person
URL:https://sjjcc.npgdev.com/event/author-breakfast-fagin-the-thief-by-allison-epstein/
LOCATION:Sid Jacobson JCC\, 300 Forest Dr\, East Hills\, NY\, 11548\, United States
CATEGORIES:Adults,Arts + Culture,Literary Arts,Seniors
GEO:40.8050284;-73.6379839
X-APPLE-STRUCTURED-LOCATION;VALUE=URI;X-ADDRESS=Sid Jacobson JCC 300 Forest Dr East Hills NY 11548 United States;X-APPLE-RADIUS=500;X-TITLE=300 Forest Dr:geo:-73.6379839,40.8050284
END:VEVENT
BEGIN:VEVENT
DTSTART;TZID=America/New_York:20260326T150000
DTEND;TZID=America/New_York:20260326T160000
DTSTAMP:20260422T181610
CREATED:20260128T212114Z
LAST-MODIFIED:20260128T212415Z
UID:10141438-1774537200-1774540800@sjjcc.npgdev.com
SUMMARY:Bank Notes
DESCRIPTION:Monthly card-making for our Nikki Schwartz Memorial Community Needs Bank and Food Pantry recipients. \nNo registration required; just stop by!
URL:https://sjjcc.npgdev.com/event/bank-notes/2026-03-26/
LOCATION:Sid Jacobson JCC\, 300 Forest Dr\, East Hills\, NY\, 11548\, United States
GEO:40.8050284;-73.6379839
X-APPLE-STRUCTURED-LOCATION;VALUE=URI;X-ADDRESS=Sid Jacobson JCC 300 Forest Dr East Hills NY 11548 United States;X-APPLE-RADIUS=500;X-TITLE=300 Forest Dr:geo:-73.6379839,40.8050284
END:VEVENT
BEGIN:VEVENT
DTSTART;TZID=America/New_York:20260327T170000
DTEND;TZID=America/New_York:20260327T190000
DTSTAMP:20260422T181610
CREATED:20250815T190833Z
LAST-MODIFIED:20250918T174704Z
UID:10140321-1774630800-1774638000@sjjcc.npgdev.com
SUMMARY:Shabbat Dinner
DESCRIPTION:Celebrate Shabbat with community! Share in blessings\, candle lighting\, and a meal with friends\, both old and new.\nFridays\, 5-7pm\n$30 members / $40 nonmembers per dinner\nTo discuss food restrictions\, please contact Lauren Chizner at lchizner@sjjcc.org\nRegister: September 5\, October 10\, November 15\, December 12\, January 17\, February 28\, March 27\, April 17\, May 15 
URL:https://sjjcc.npgdev.com/event/shabbat-dinner-2/2026-03-27/
LOCATION:Sid Jacobson JCC\, 300 Forest Dr\, East Hills\, NY\, 11548\, United States
CATEGORIES:Jewish Life + Learning,Seniors
GEO:40.8050284;-73.6379839
X-APPLE-STRUCTURED-LOCATION;VALUE=URI;X-ADDRESS=Sid Jacobson JCC 300 Forest Dr East Hills NY 11548 United States;X-APPLE-RADIUS=500;X-TITLE=300 Forest Dr:geo:-73.6379839,40.8050284
END:VEVENT
BEGIN:VEVENT
DTSTART;TZID=America/New_York:20260327T170000
DTEND;TZID=America/New_York:20260327T190000
DTSTAMP:20260422T181610
CREATED:20251103T201059Z
LAST-MODIFIED:20251219T144642Z
UID:10140449-1774630800-1774638000@sjjcc.npgdev.com
SUMMARY:Shabbat Dinner
DESCRIPTION:Celebrate Shabbat with community! Share in blessings\, candle lighting\, and a meal with friends\, both old and new.\nFridays\, 5-7pm\n$30 members / $40 nonmembers per dinner\nTo discuss food restrictions\, please contact Lauren Chizner at lchizner@sjjcc.org\nRegister: January 23\, February 27\, March 27\, April 17\, May 15 
URL:https://sjjcc.npgdev.com/event/shabbat-dinner-2-2/2026-03-27/
LOCATION:Sid Jacobson JCC\, 300 Forest Dr\, East Hills\, NY\, 11548\, United States
CATEGORIES:Jewish Life + Learning,Seniors
GEO:40.8050284;-73.6379839
X-APPLE-STRUCTURED-LOCATION;VALUE=URI;X-ADDRESS=Sid Jacobson JCC 300 Forest Dr East Hills NY 11548 United States;X-APPLE-RADIUS=500;X-TITLE=300 Forest Dr:geo:-73.6379839,40.8050284
END:VEVENT
END:VCALENDAR