BEGIN:VCALENDAR
VERSION:2.0
PRODID:-//Sid Jacobson JCC - ECPv6.15.14//NONSGML v1.0//EN
CALSCALE:GREGORIAN
METHOD:PUBLISH
X-WR-CALNAME:Sid Jacobson JCC
X-ORIGINAL-URL:https://sjjcc.npgdev.com
X-WR-CALDESC:Events for Sid Jacobson JCC
REFRESH-INTERVAL;VALUE=DURATION:PT1H
X-Robots-Tag:noindex
X-PUBLISHED-TTL:PT1H
BEGIN:VTIMEZONE
TZID:America/New_York
BEGIN:DAYLIGHT
TZOFFSETFROM:-0500
TZOFFSETTO:-0400
TZNAME:EDT
DTSTART:20250309T070000
END:DAYLIGHT
BEGIN:STANDARD
TZOFFSETFROM:-0400
TZOFFSETTO:-0500
TZNAME:EST
DTSTART:20251102T060000
END:STANDARD
BEGIN:DAYLIGHT
TZOFFSETFROM:-0500
TZOFFSETTO:-0400
TZNAME:EDT
DTSTART:20260308T070000
END:DAYLIGHT
BEGIN:STANDARD
TZOFFSETFROM:-0400
TZOFFSETTO:-0500
TZNAME:EST
DTSTART:20261101T060000
END:STANDARD
BEGIN:DAYLIGHT
TZOFFSETFROM:-0500
TZOFFSETTO:-0400
TZNAME:EDT
DTSTART:20270314T070000
END:DAYLIGHT
BEGIN:STANDARD
TZOFFSETFROM:-0400
TZOFFSETTO:-0500
TZNAME:EST
DTSTART:20271107T060000
END:STANDARD
END:VTIMEZONE
BEGIN:VEVENT
DTSTART;TZID=America/New_York:20260303T180000
DTEND;TZID=America/New_York:20260303T180000
DTSTAMP:20260420T175107
CREATED:20260226T032037Z
LAST-MODIFIED:20260226T032037Z
UID:10141323-1772560800-1772560800@sjjcc.npgdev.com
SUMMARY:Cancer Wellness: Sexually Speaking With Dr. Anne Katz (Virtual)
DESCRIPTION:Join Dr. Anne Katz—renowned sexuality counselor and author—for a candid conversation about intimacy and sexual health after cancer. Learn practical ways to rebuild comfort\, connection\, and quality of life. \nAll programs and services offered by the Nancy Marx Cancer Wellness Center\, including our workshops\, are free of charge. To register for a featured event\, please contact Joy Rubel\, LMSW\, at jrubel@sjjcc.org
URL:https://sjjcc.npgdev.com/event/cancer-wellness-sexually-speaking-with-dr-anne-katz-virtual/
CATEGORIES:Cancer Wellness Center
END:VEVENT
BEGIN:VEVENT
DTSTART;TZID=America/New_York:20260319T113000
DTEND;TZID=America/New_York:20260319T130000
DTSTAMP:20260420T175107
CREATED:20250610T174656Z
LAST-MODIFIED:20260129T150537Z
UID:10141442-1773919800-1773925200@sjjcc.npgdev.com
SUMMARY:Cancer Wellness: Coffee + Connection
DESCRIPTION:Join fellow cancer survivors in a safe\, supportive space to share your journey\, create beautiful art projects\, and connect with others who truly understand. Talk\, listen\, or simply be in the presence of those who understand—we welcome you with open arms. \nThursdays\, 11:30am-1pm \nAll programs and services offered by the Nancy Marx Cancer Wellness Center\, including our workshops\, are free of charge. To register for a featured event\, please contact Joy Rubel\, LMSW\, at jrubel@sjjcc.org
URL:https://sjjcc.npgdev.com/event/coffeeconnection/2026-03-19/
CATEGORIES:Cancer Wellness Center
END:VEVENT
END:VCALENDAR