BEGIN:VCALENDAR
VERSION:2.0
PRODID:-//Sid Jacobson JCC - ECPv6.15.14//NONSGML v1.0//EN
CALSCALE:GREGORIAN
METHOD:PUBLISH
X-WR-CALNAME:Sid Jacobson JCC
X-ORIGINAL-URL:https://sjjcc.npgdev.com
X-WR-CALDESC:Events for Sid Jacobson JCC
REFRESH-INTERVAL;VALUE=DURATION:PT1H
X-Robots-Tag:noindex
X-PUBLISHED-TTL:PT1H
BEGIN:VTIMEZONE
TZID:America/New_York
BEGIN:DAYLIGHT
TZOFFSETFROM:-0500
TZOFFSETTO:-0400
TZNAME:EDT
DTSTART:20250309T070000
END:DAYLIGHT
BEGIN:STANDARD
TZOFFSETFROM:-0400
TZOFFSETTO:-0500
TZNAME:EST
DTSTART:20251102T060000
END:STANDARD
BEGIN:DAYLIGHT
TZOFFSETFROM:-0500
TZOFFSETTO:-0400
TZNAME:EDT
DTSTART:20260308T070000
END:DAYLIGHT
BEGIN:STANDARD
TZOFFSETFROM:-0400
TZOFFSETTO:-0500
TZNAME:EST
DTSTART:20261101T060000
END:STANDARD
BEGIN:DAYLIGHT
TZOFFSETFROM:-0500
TZOFFSETTO:-0400
TZNAME:EDT
DTSTART:20270314T070000
END:DAYLIGHT
BEGIN:STANDARD
TZOFFSETFROM:-0400
TZOFFSETTO:-0500
TZNAME:EST
DTSTART:20271107T060000
END:STANDARD
END:VTIMEZONE
BEGIN:VEVENT
DTSTART;TZID=America/New_York:20260304T193000
DTEND;TZID=America/New_York:20260304T193000
DTSTAMP:20260420T083038
CREATED:20260226T031853Z
LAST-MODIFIED:20260226T031853Z
UID:10141322-1772652600-1772652600@sjjcc.npgdev.com
SUMMARY:Voices of Our Time: Dan Senor
DESCRIPTION:In partnership with UJA-Federation of New York and Tilles Center \nNew York Times bestselling author\, political analyst\, and co‑host of the award‑winning podcast Call Me Back\, Dan Senor\, brings sharp insight into global affairs\, Jewish identity\, and modern leadership. He is widely recognized for his thoughtful analysis of geopolitics\, innovation\, and culture. \nIn conversation with Michael Schlank\, Executive Director\, Sid Jacobson JCC. \nPresented by Sid Jacobson JCC’s Edward & Bernice Wenger Center for the Arts\,\nas part of Irene & Ronald Cohen Spotlight Speaker Series\,\nand Ruth & Saul Weinberger Center for Jewish Life + Learning
URL:https://sjjcc.npgdev.com/event/voices-of-our-time-dan-senor/
LOCATION:Tilles Center for the Performing Arts\, LIU Post\, 720 Northern Boulevard\, Brookville\, NY\, 11548\, United States
CATEGORIES:Adults,Arts + Culture
END:VEVENT
BEGIN:VEVENT
DTSTART;TZID=America/New_York:20260311T193000
DTEND;TZID=America/New_York:20260311T193000
DTSTAMP:20260420T083038
CREATED:20260130T154531Z
LAST-MODIFIED:20260130T154531Z
UID:10141447-1773257400-1773257400@sjjcc.npgdev.com
SUMMARY:Spotlight Speaker: Sarah Hurwitz
DESCRIPTION:Sarah Hurwitz\, former Chief Speechwriter for First Lady Michelle Obama and author of the award‑winning Here All Along and As a Jew: Reclaiming Our Story From Those Who Shame\, Blame\, and Try To Erase Us\, offers a behind‑the‑scenes look at crafting some of the most memorable speeches of the Obama White House. A veteran of multiple presidential campaigns and a senior speechwriter for President Barack Obama\, she brings deep political experience and powerful insights into storytelling\, purpose\, and identity. \nIn conversation with Rabbi Melissa Buyer‑Witman\, Senior Rabbi at The Community Synagogue of Port Washington\, Sarah shares lessons from working alongside one of the world’s most influential women and offers practical guidance on crafting narratives that inform\, inspire\, and resonate. \n\n$50 members / $60 nonmembers\n$150 VIP Meet & Greet
URL:https://sjjcc.npgdev.com/event/spotlight-speaker-sarah-hurwitz/
LOCATION:Sid Jacobson JCC\, 300 Forest Dr\, East Hills\, NY\, 11548\, United States
CATEGORIES:Arts + Culture,Center for Israel
GEO:40.8050284;-73.6379839
X-APPLE-STRUCTURED-LOCATION;VALUE=URI;X-ADDRESS=Sid Jacobson JCC 300 Forest Dr East Hills NY 11548 United States;X-APPLE-RADIUS=500;X-TITLE=300 Forest Dr:geo:-73.6379839,40.8050284
END:VEVENT
BEGIN:VEVENT
DTSTART;TZID=America/New_York:20260311T193000
DTEND;TZID=America/New_York:20260311T193000
DTSTAMP:20260420T083038
CREATED:20260226T031122Z
LAST-MODIFIED:20260226T031122Z
UID:10141320-1773257400-1773257400@sjjcc.npgdev.com
SUMMARY:Spotlight Speaker: Sarah Hurwitz
DESCRIPTION:Sarah Hurwitz\, former Chief Speechwriter for First Lady Michelle Obama and author of the award‑winning Here All Along and As a Jew: Reclaiming Our Story From Those Who Shame\, Blame\, and Try To Erase Us\, offers a behind‑the‑scenes look at crafting some of the most memorable speeches of the Obama White House. A veteran of multiple presidential campaigns and a senior speechwriter for President Barack Obama\, she brings deep political experience and powerful insights into storytelling\, purpose\, and identity. \nIn conversation with Rabbi Melissa Buyer‑Witman\, Senior Rabbi at The Community Synagogue of Port Washington\, Sarah shares lessons from working alongside one of the world’s most influential women and offers practical guidance on crafting narratives that inform\, inspire\, and resonate. \n\n$50 members / $60 nonmembers\n$150 VIP Meet & Greet
URL:https://sjjcc.npgdev.com/event/spotlight-speaker-sarah-hurwitz/
LOCATION:Sid Jacobson JCC\, 300 Forest Dr\, East Hills\, NY\, 11548\, United States
CATEGORIES:Arts + Culture,Center for Israel
GEO:40.8050284;-73.6379839
X-APPLE-STRUCTURED-LOCATION;VALUE=URI;X-ADDRESS=Sid Jacobson JCC 300 Forest Dr East Hills NY 11548 United States;X-APPLE-RADIUS=500;X-TITLE=300 Forest Dr:geo:-73.6379839,40.8050284
END:VEVENT
BEGIN:VEVENT
DTSTART;TZID=America/New_York:20260319T190000
DTEND;TZID=America/New_York:20260319T210000
DTSTAMP:20260420T083038
CREATED:20260226T030017Z
LAST-MODIFIED:20260226T030017Z
UID:10141314-1773946800-1773954000@sjjcc.npgdev.com
SUMMARY:Book Club: Flesh
DESCRIPTION:Share your thoughts on today’s best-selling novels\, moderated by Nicole Yablans\, an English teacher and library consultant.  \nMarch’s pick is Flesh by bestselling author and Booker prize winner David Szalay.  \nFlesh follows István\, a Hungarian teen whose life veers off course after a disastrous early relationship. He rises from poverty to the world of London’s ultra‑rich\, but unresolved trauma and impulsive choices shape every stage of his journey. \n$20 members / $30 nonmembers
URL:https://sjjcc.npgdev.com/event/book-club-flesh/
LOCATION:Sid Jacobson JCC\, 300 Forest Dr\, East Hills\, NY\, 11548\, United States
CATEGORIES:Adults,Arts + Culture
GEO:40.8050284;-73.6379839
X-APPLE-STRUCTURED-LOCATION;VALUE=URI;X-ADDRESS=Sid Jacobson JCC 300 Forest Dr East Hills NY 11548 United States;X-APPLE-RADIUS=500;X-TITLE=300 Forest Dr:geo:-73.6379839,40.8050284
END:VEVENT
BEGIN:VEVENT
DTSTART;TZID=America/New_York:20260326T103000
DTEND;TZID=America/New_York:20260326T120000
DTSTAMP:20260420T083038
CREATED:20250813T151140Z
LAST-MODIFIED:20250815T221800Z
UID:10140257-1774521000-1774526400@sjjcc.npgdev.com
SUMMARY:Author Breakfast: Fagin the Thief by Allison Epstein
DESCRIPTION:A reimagining of the world created by Charles Dickens\, seen through the eyes of Jacob Fagin—Victorian literature’s notorious villain. \n$65 per person
URL:https://sjjcc.npgdev.com/event/author-breakfast-fagin-the-thief-by-allison-epstein/
LOCATION:Sid Jacobson JCC\, 300 Forest Dr\, East Hills\, NY\, 11548\, United States
CATEGORIES:Adults,Arts + Culture,Literary Arts,Seniors
GEO:40.8050284;-73.6379839
X-APPLE-STRUCTURED-LOCATION;VALUE=URI;X-ADDRESS=Sid Jacobson JCC 300 Forest Dr East Hills NY 11548 United States;X-APPLE-RADIUS=500;X-TITLE=300 Forest Dr:geo:-73.6379839,40.8050284
END:VEVENT
END:VCALENDAR