BEGIN:VCALENDAR
VERSION:2.0
PRODID:-//Sid Jacobson JCC - ECPv6.15.14//NONSGML v1.0//EN
CALSCALE:GREGORIAN
METHOD:PUBLISH
X-ORIGINAL-URL:https://sjjcc.npgdev.com
X-WR-CALDESC:Events for Sid Jacobson JCC
REFRESH-INTERVAL;VALUE=DURATION:PT1H
X-Robots-Tag:noindex
X-PUBLISHED-TTL:PT1H
BEGIN:VTIMEZONE
TZID:America/New_York
BEGIN:DAYLIGHT
TZOFFSETFROM:-0500
TZOFFSETTO:-0400
TZNAME:EDT
DTSTART:20240310T070000
END:DAYLIGHT
BEGIN:STANDARD
TZOFFSETFROM:-0400
TZOFFSETTO:-0500
TZNAME:EST
DTSTART:20241103T060000
END:STANDARD
BEGIN:DAYLIGHT
TZOFFSETFROM:-0500
TZOFFSETTO:-0400
TZNAME:EDT
DTSTART:20250309T070000
END:DAYLIGHT
BEGIN:STANDARD
TZOFFSETFROM:-0400
TZOFFSETTO:-0500
TZNAME:EST
DTSTART:20251102T060000
END:STANDARD
BEGIN:DAYLIGHT
TZOFFSETFROM:-0500
TZOFFSETTO:-0400
TZNAME:EDT
DTSTART:20260308T070000
END:DAYLIGHT
BEGIN:STANDARD
TZOFFSETFROM:-0400
TZOFFSETTO:-0500
TZNAME:EST
DTSTART:20261101T060000
END:STANDARD
END:VTIMEZONE
BEGIN:VEVENT
DTSTART;TZID=America/New_York:20250905T170000
DTEND;TZID=America/New_York:20250905T190000
DTSTAMP:20260424T044542
CREATED:20250815T190833Z
LAST-MODIFIED:20250918T174704Z
UID:10140315-1757091600-1757098800@sjjcc.npgdev.com
SUMMARY:Shabbat Dinner
DESCRIPTION:Celebrate Shabbat with community! Share in blessings\, candle lighting\, and a meal with friends\, both old and new.\nFridays\, 5-7pm\n$30 members / $40 nonmembers per dinner\nTo discuss food restrictions\, please contact Lauren Chizner at lchizner@sjjcc.org\nRegister: September 5\, October 10\, November 15\, December 12\, January 17\, February 28\, March 27\, April 17\, May 15 
URL:https://sjjcc.npgdev.com/event/shabbat-dinner-2/2025-09-05/
LOCATION:Sid Jacobson JCC\, 300 Forest Dr\, East Hills\, NY\, 11548\, United States
CATEGORIES:Jewish Life + Learning,Seniors
GEO:40.8050284;-73.6379839
X-APPLE-STRUCTURED-LOCATION;VALUE=URI;X-ADDRESS=Sid Jacobson JCC 300 Forest Dr East Hills NY 11548 United States;X-APPLE-RADIUS=500;X-TITLE=300 Forest Dr:geo:-73.6379839,40.8050284
END:VEVENT
BEGIN:VEVENT
DTSTART;TZID=America/New_York:20250907T103000
DTEND;TZID=America/New_York:20250907T120000
DTSTAMP:20260424T044542
CREATED:20250801T162553Z
LAST-MODIFIED:20250820T124228Z
UID:10140251-1757241000-1757246400@sjjcc.npgdev.com
SUMMARY:Grandparents Day: Breakfast\, Books + Bonding
DESCRIPTION:Celebrate your special day by teaming up with your grandchildren for a morning of fun! Enjoy a bagel breakfast\, followed by a visit from local children’s book author and illustrator Ann F. Koffsky\, and give back to our community with service projects. \n$10 members per family / $20 nonmembers per family \nBrought to you by our Bernce & Ira Waldbaum Family Children’s Center and Center for Adult Programming
URL:https://sjjcc.npgdev.com/event/grandparents-day/
LOCATION:Sid Jacobson JCC\, 300 Forest Dr\, East Hills\, NY\, 11548\, United States
CATEGORIES:Adults,Center for Community Engagement,Early Childhood,Family,Seniors,Verve 55+ Living
GEO:40.8050284;-73.6379839
X-APPLE-STRUCTURED-LOCATION;VALUE=URI;X-ADDRESS=Sid Jacobson JCC 300 Forest Dr East Hills NY 11548 United States;X-APPLE-RADIUS=500;X-TITLE=300 Forest Dr:geo:-73.6379839,40.8050284
END:VEVENT
BEGIN:VEVENT
DTSTART;TZID=America/New_York:20250909T120000
DTEND;TZID=America/New_York:20250909T140000
DTSTAMP:20260424T044542
CREATED:20250728T195111Z
LAST-MODIFIED:20250728T195223Z
UID:10140241-1757419200-1757426400@sjjcc.npgdev.com
SUMMARY:SEPHORA AT THE JCC
DESCRIPTION:Learn tips and tricks with a beauty expert from Sephora. Featuring clean\, all-natural products\, this session is designed to uplift\, empower\, and help you feel your best—inside and out!\nAll Nancy Marx Cancer Wellness Center workshops are completely free of charge. Advance registration is required to Joy Rubel\, jrubel@sjjcc.org
URL:https://sjjcc.npgdev.com/event/sephora-at-the-jcc/
LOCATION:Sid Jacobson JCC\, 300 Forest Dr\, East Hills\, NY\, 11548\, United States
GEO:40.8050284;-73.6379839
X-APPLE-STRUCTURED-LOCATION;VALUE=URI;X-ADDRESS=Sid Jacobson JCC 300 Forest Dr East Hills NY 11548 United States;X-APPLE-RADIUS=500;X-TITLE=300 Forest Dr:geo:-73.6379839,40.8050284
END:VEVENT
BEGIN:VEVENT
DTSTART;TZID=America/New_York:20250914T130000
DTEND;TZID=America/New_York:20250914T130000
DTSTAMP:20260424T044542
CREATED:20190803T144401Z
LAST-MODIFIED:20250912T033610Z
UID:10140342-1757854800-1757854800@sjjcc.npgdev.com
SUMMARY:PFLAG
DESCRIPTION:PFLAG is dedicated to keeping families together when a loved one comes out as LGBTQ. Open group meetings or confidential helpline. For more information\, visit pflagli.org.\nSeptember 14\, 2025\nNovember 16\, 2025\nJanuary 11\, 2026\nMarch 15\, 2026\nMay 17\, 2026
URL:https://sjjcc.npgdev.com/event/pflag-2/2025-09-14/
LOCATION:Sid Jacobson JCC\, 300 Forest Dr\, East Hills\, NY\, 11548\, United States
CATEGORIES:Adults,Family,Seniors,Support Group,Teens
GEO:40.8050284;-73.6379839
X-APPLE-STRUCTURED-LOCATION;VALUE=URI;X-ADDRESS=Sid Jacobson JCC 300 Forest Dr East Hills NY 11548 United States;X-APPLE-RADIUS=500;X-TITLE=300 Forest Dr:geo:-73.6379839,40.8050284
END:VEVENT
BEGIN:VEVENT
DTSTART;TZID=America/New_York:20250928T090000
DTEND;TZID=America/New_York:20250928T140000
DTSTAMP:20260424T044542
CREATED:20240819T222352Z
LAST-MODIFIED:20250610T175854Z
UID:10110223-1759050000-1759068000@sjjcc.npgdev.com
SUMMARY:RELAX\, RESTORE\, RENEW\, RETREAT
DESCRIPTION:Reconnect\, rejuvenate\, and celebrate life at our annual retreat from cancer\, featuring classes designed to move\, engage\, and nurture your mind\, body\, and spirit.\nAt Shibley Day Camp\, 175 Warner Avenue\, Roslyn Heights\n  \nAll Nancy Marx Cancer Wellness Center workshops are completely free of charge. Advance registration is required to Joy Rubel\, jrubel@sjjcc.org\n 
URL:https://sjjcc.npgdev.com/event/relax-restore-renew-retreat/
LOCATION:Shibley Day Camp\, 175 Warner Ave\, Roslyn\, NY\, 11577\, United States
END:VEVENT
BEGIN:VEVENT
DTSTART;TZID=America/New_York:20250929T183000
DTEND;TZID=America/New_York:20250929T203000
DTSTAMP:20260424T044542
CREATED:20250815T185457Z
LAST-MODIFIED:20250928T130230Z
UID:10140245-1759170600-1759177800@sjjcc.npgdev.com
SUMMARY:Community Babka Bake with Avery Robinson
DESCRIPTION:Experience the joy of hands-on baking as you craft your own babka—a sweet\, twisted loaf full of flavor and tradition. With expert guidance from Avery Robinson\, culinary historian\, co-founder of Rye Revival\, and manager of Black Rooster Food\,  you’ll learn how to prepare and shape this beloved treat to take home and bake. All ingredients and refreshments are Kosher. \n$18 members / $36 nonmembers \nLimited space is available for the program\, to register\, please call 516.484.1545. Walk-ins will not be accepted.
URL:https://sjjcc.npgdev.com/event/community-babka-bake/
LOCATION:Sid Jacobson JCC\, 300 Forest Dr\, East Hills\, NY\, 11548\, United States
CATEGORIES:Adults,Arts + Culture,Center for Community Engagement,Center for Israel,Family,Jewish Life + Learning,New Leadership Group,Parent Engagement + Education,Seniors,Teens,Verve 55+ Living,Youth
GEO:40.8050284;-73.6379839
X-APPLE-STRUCTURED-LOCATION;VALUE=URI;X-ADDRESS=Sid Jacobson JCC 300 Forest Dr East Hills NY 11548 United States;X-APPLE-RADIUS=500;X-TITLE=300 Forest Dr:geo:-73.6379839,40.8050284
END:VEVENT
END:VCALENDAR