BEGIN:VCALENDAR
VERSION:2.0
PRODID:-//Sid Jacobson JCC - ECPv6.15.14//NONSGML v1.0//EN
CALSCALE:GREGORIAN
METHOD:PUBLISH
X-ORIGINAL-URL:https://sjjcc.npgdev.com
X-WR-CALDESC:Events for Sid Jacobson JCC
REFRESH-INTERVAL;VALUE=DURATION:PT1H
X-Robots-Tag:noindex
X-PUBLISHED-TTL:PT1H
BEGIN:VTIMEZONE
TZID:America/New_York
BEGIN:DAYLIGHT
TZOFFSETFROM:-0500
TZOFFSETTO:-0400
TZNAME:EDT
DTSTART:20230312T070000
END:DAYLIGHT
BEGIN:STANDARD
TZOFFSETFROM:-0400
TZOFFSETTO:-0500
TZNAME:EST
DTSTART:20231105T060000
END:STANDARD
BEGIN:DAYLIGHT
TZOFFSETFROM:-0500
TZOFFSETTO:-0400
TZNAME:EDT
DTSTART:20240310T070000
END:DAYLIGHT
BEGIN:STANDARD
TZOFFSETFROM:-0400
TZOFFSETTO:-0500
TZNAME:EST
DTSTART:20241103T060000
END:STANDARD
BEGIN:DAYLIGHT
TZOFFSETFROM:-0500
TZOFFSETTO:-0400
TZNAME:EDT
DTSTART:20250309T070000
END:DAYLIGHT
BEGIN:STANDARD
TZOFFSETFROM:-0400
TZOFFSETTO:-0500
TZNAME:EST
DTSTART:20251102T060000
END:STANDARD
BEGIN:DAYLIGHT
TZOFFSETFROM:-0500
TZOFFSETTO:-0400
TZNAME:EDT
DTSTART:20260308T070000
END:DAYLIGHT
BEGIN:STANDARD
TZOFFSETFROM:-0400
TZOFFSETTO:-0500
TZNAME:EST
DTSTART:20261101T060000
END:STANDARD
END:VTIMEZONE
BEGIN:VEVENT
DTSTART;TZID=America/New_York:20250601T130000
DTEND;TZID=America/New_York:20250601T180000
DTSTAMP:20260422T181341
CREATED:20241118T211338Z
LAST-MODIFIED:20250428T153146Z
UID:10139443-1748782800-1748800800@sjjcc.npgdev.com
SUMMARY:Game On For Autism
DESCRIPTION:FLAG FOOTBALL FOR GRADES K-8\nAT THE PARK AT EAST HILLS\nFUN FOR THE WHOLE FAMILY\nEnjoy an afternoon of fun flag football to benefit programming for Camp Kehilla’s campers with special needs.\nDon’t play Flag Football? That’s okay! There will be a DJ\, pizza\, ice cream truck\, and silent auction. All are welcome!
URL:https://sjjcc.npgdev.com/event/game-on-for-autism-2/
LOCATION:NY
CATEGORIES:Center for Israel,Center for Neurodiveristy,New Leadership Group,Special Needs,Youth
END:VEVENT
BEGIN:VEVENT
DTSTART;TZID=America/New_York:20250510T141500
DTEND;TZID=America/New_York:20250510T154500
DTSTAMP:20260422T181341
CREATED:20250131T200249Z
LAST-MODIFIED:20250428T153108Z
UID:10139690-1746886500-1746891900@sjjcc.npgdev.com
SUMMARY:SIBSHOP (Ages 8-12)
DESCRIPTION:These are kid-friendly workshops where brothers and sisters of neurodivergent people can meet other siblings.\nThese sessions offer opportunities to discuss common joys\, challenges\, and unique concerns.\nHeld on Saturday\, May 10\nAges 8-12\n2:15-3:45pm\n$110 members / $90 nonmembers
URL:https://sjjcc.npgdev.com/event/sibshop-ages-8-12-3/
LOCATION:Sid Jacobson JCC\, 300 Forest Dr\, East Hills\, NY\, 11548\, United States
CATEGORIES:Special Needs
GEO:40.8050284;-73.6379839
X-APPLE-STRUCTURED-LOCATION;VALUE=URI;X-ADDRESS=Sid Jacobson JCC 300 Forest Dr East Hills NY 11548 United States;X-APPLE-RADIUS=500;X-TITLE=300 Forest Dr:geo:-73.6379839,40.8050284
END:VEVENT
BEGIN:VEVENT
DTSTART;TZID=America/New_York:20250426T141500
DTEND;TZID=America/New_York:20250426T154500
DTSTAMP:20260422T181341
CREATED:20250131T200209Z
LAST-MODIFIED:20250428T153237Z
UID:10139689-1745676900-1745682300@sjjcc.npgdev.com
SUMMARY:SIBSHOP (Ages 8-12)
DESCRIPTION:These are kid-friendly workshops where brothers and sisters of neurodivergent people can meet other siblings.\nThese sessions offer opportunities to discuss common joys\, challenges\, and unique concerns. \nHeld on Saturdays:\nApril 26\, and May 10 \nAges 8-12\n2:15-3:45pm \n$110 members / $90 nonmembers \n 
URL:https://sjjcc.npgdev.com/event/sibshop-ages-8-12-2/
LOCATION:Sid Jacobson JCC\, 300 Forest Dr\, East Hills\, NY\, 11548\, United States
CATEGORIES:Special Needs
GEO:40.8050284;-73.6379839
X-APPLE-STRUCTURED-LOCATION;VALUE=URI;X-ADDRESS=Sid Jacobson JCC 300 Forest Dr East Hills NY 11548 United States;X-APPLE-RADIUS=500;X-TITLE=300 Forest Dr:geo:-73.6379839,40.8050284
END:VEVENT
BEGIN:VEVENT
DTSTART;TZID=America/New_York:20250401T190000
DTEND;TZID=America/New_York:20250401T200000
DTSTAMP:20260422T181341
CREATED:20250107T205822Z
LAST-MODIFIED:20250318T235628Z
UID:10139656-1743534000-1743537600@sjjcc.npgdev.com
SUMMARY:How to Protect Your Child Legally and Financially
DESCRIPTION:REIMAGINING INDEPENDENCE WORKSHOP\nHow to Protect Your Child Legally and Financially\nWith Andrew Cohen\, Esq. and Mitch Weisbrot\nAndrew Cohen and Mitch Weisbrot\, fathers of children with disabilities\, share their personal experiences and professional expertise. This seminar guides you through the legal and financial steps needed to safeguard your child’s assets and benefits\, ensuring the best interests of your child are protected throughout their lifetime.
URL:https://sjjcc.npgdev.com/event/how-to-protect-your-child-legally-and-financially/
LOCATION:Sid Jacobson JCC\, 300 Forest Dr\, East Hills\, NY\, 11548\, United States
CATEGORIES:Center for Community Engagement,Center for Psychological Resilience,Early Childhood,Parent Engagement + Education,Special Needs,Teens,Youth
GEO:40.8050284;-73.6379839
X-APPLE-STRUCTURED-LOCATION;VALUE=URI;X-ADDRESS=Sid Jacobson JCC 300 Forest Dr East Hills NY 11548 United States;X-APPLE-RADIUS=500;X-TITLE=300 Forest Dr:geo:-73.6379839,40.8050284
END:VEVENT
BEGIN:VEVENT
DTSTART;TZID=America/New_York:20250329T141500
DTEND;TZID=America/New_York:20250329T154500
DTSTAMP:20260422T181341
CREATED:20250131T200149Z
LAST-MODIFIED:20250131T200149Z
UID:10139688-1743257700-1743263100@sjjcc.npgdev.com
SUMMARY:SIBSHOP (Ages 8-12)
DESCRIPTION:These are kid-friendly workshops where brothers and sisters of neurodivergent people can meet other siblings.\nThese sessions offer opportunities to discuss common joys\, challenges\, and unique concerns. \nHeld on Saturdays:\nMarch 29\, April 26\, and May 10 \nAges 8-12\n2:15-3:45pm \n$110 members / $90 nonmembers \n 
URL:https://sjjcc.npgdev.com/event/sibshop-ages-8-12/
LOCATION:Sid Jacobson JCC\, 300 Forest Dr\, East Hills\, NY\, 11548\, United States
CATEGORIES:Special Needs
GEO:40.8050284;-73.6379839
X-APPLE-STRUCTURED-LOCATION;VALUE=URI;X-ADDRESS=Sid Jacobson JCC 300 Forest Dr East Hills NY 11548 United States;X-APPLE-RADIUS=500;X-TITLE=300 Forest Dr:geo:-73.6379839,40.8050284
END:VEVENT
BEGIN:VEVENT
DTSTART;TZID=America/New_York:20250215T141500
DTEND;TZID=America/New_York:20250215T154500
DTSTAMP:20260422T181341
CREATED:20241022T175633Z
LAST-MODIFIED:20250131T195954Z
UID:10139687-1739628900-1739634300@sjjcc.npgdev.com
SUMMARY:SIBSHOP (Ages 8-12)
DESCRIPTION:These are kid-friendly workshops where brothers and sisters of neurodivergent people can meet other siblings.\nThese sessions offer opportunities to discuss common joys\, challenges\, and unique concerns. \nHeld on Saturdays:\nFebruary 15\, March 29\, April 26\, and May 10 \nAges 8-12\n2:15-3:45pm \n$110 members / $90 nonmembers \n 
URL:https://sjjcc.npgdev.com/event/sibling-support-project-ages-8-12/
LOCATION:Sid Jacobson JCC\, 300 Forest Dr\, East Hills\, NY\, 11548\, United States
CATEGORIES:Special Needs
GEO:40.8050284;-73.6379839
X-APPLE-STRUCTURED-LOCATION;VALUE=URI;X-ADDRESS=Sid Jacobson JCC 300 Forest Dr East Hills NY 11548 United States;X-APPLE-RADIUS=500;X-TITLE=300 Forest Dr:geo:-73.6379839,40.8050284
END:VEVENT
BEGIN:VEVENT
DTSTART;TZID=America/New_York:20250125T123000
DTEND;TZID=America/New_York:20250125T140000
DTSTAMP:20260422T181341
CREATED:20241022T175633Z
LAST-MODIFIED:20250131T195954Z
UID:10139420-1737808200-1737813600@sjjcc.npgdev.com
SUMMARY:SIBSHOP (Ages 8-12)
DESCRIPTION:These are kid-friendly workshops where brothers and sisters of neurodivergent people can meet other siblings.\nThese sessions offer opportunities to discuss common joys\, challenges\, and unique concerns. \nHeld on Saturdays:\nFebruary 15\, March 29\, April 26\, and May 10 \nAges 8-12\n2:15-3:45pm \n$110 members / $90 nonmembers \n 
URL:https://sjjcc.npgdev.com/event/sibling-support-project-ages-8-12/
LOCATION:Sid Jacobson JCC\, 300 Forest Dr\, East Hills\, NY\, 11548\, United States
CATEGORIES:Special Needs
GEO:40.8050284;-73.6379839
X-APPLE-STRUCTURED-LOCATION;VALUE=URI;X-ADDRESS=Sid Jacobson JCC 300 Forest Dr East Hills NY 11548 United States;X-APPLE-RADIUS=500;X-TITLE=300 Forest Dr:geo:-73.6379839,40.8050284
END:VEVENT
BEGIN:VEVENT
DTSTART;TZID=America/New_York:20240602T130000
DTEND;TZID=America/New_York:20240602T180000
DTSTAMP:20260422T181341
CREATED:20240419T132559Z
LAST-MODIFIED:20240419T132559Z
UID:10096074-1717333200-1717351200@sjjcc.npgdev.com
SUMMARY:Game On For Autism
DESCRIPTION:FLAG FOOTBALL FOR GRADES K-8\nAT THE PARK AT EAST HILLS\nFUN FOR THE WHOLE FAMILY\nEnjoy an afternoon of fun flag football to benefit programming for Camp Kehilla’s campers with special needs.\nDon’t play Flag Football? That’s okay! There will be a DJ\, pizza\, ice cream truck\, and silent auction. All are welcome!
URL:https://sjjcc.npgdev.com/event/game-on-for-autism/
LOCATION:NY
CATEGORIES:New Leadership Group,Special Needs,Youth
END:VEVENT
END:VCALENDAR