BEGIN:VCALENDAR
VERSION:2.0
PRODID:-//Sid Jacobson JCC - ECPv6.15.14//NONSGML v1.0//EN
CALSCALE:GREGORIAN
METHOD:PUBLISH
X-ORIGINAL-URL:https://sjjcc.npgdev.com
X-WR-CALDESC:Events for Sid Jacobson JCC
REFRESH-INTERVAL;VALUE=DURATION:PT1H
X-Robots-Tag:noindex
X-PUBLISHED-TTL:PT1H
BEGIN:VTIMEZONE
TZID:America/New_York
BEGIN:DAYLIGHT
TZOFFSETFROM:-0500
TZOFFSETTO:-0400
TZNAME:EDT
DTSTART:20250309T070000
END:DAYLIGHT
BEGIN:STANDARD
TZOFFSETFROM:-0400
TZOFFSETTO:-0500
TZNAME:EST
DTSTART:20251102T060000
END:STANDARD
BEGIN:DAYLIGHT
TZOFFSETFROM:-0500
TZOFFSETTO:-0400
TZNAME:EDT
DTSTART:20260308T070000
END:DAYLIGHT
BEGIN:STANDARD
TZOFFSETFROM:-0400
TZOFFSETTO:-0500
TZNAME:EST
DTSTART:20261101T060000
END:STANDARD
BEGIN:DAYLIGHT
TZOFFSETFROM:-0500
TZOFFSETTO:-0400
TZNAME:EDT
DTSTART:20270314T070000
END:DAYLIGHT
BEGIN:STANDARD
TZOFFSETFROM:-0400
TZOFFSETTO:-0500
TZNAME:EST
DTSTART:20271107T060000
END:STANDARD
END:VTIMEZONE
BEGIN:VEVENT
DTSTART;TZID=America/New_York:20260201T140000
DTEND;TZID=America/New_York:20260201T140000
DTSTAMP:20260424T033205
CREATED:20251208T200032Z
LAST-MODIFIED:20251208T204828Z
UID:10140439-1769954400-1769954400@sjjcc.npgdev.com
SUMMARY:Mary Poppins Performance
DESCRIPTION:A Practically Perfect Musical for the Whole Family!\nJoin us on Cherry Tree Lane as everyone’s favorite nanny works her magic on stage! With toe-tapping songs like A Spoonful of Sugar\, Let’s Fly a Kite\, and Supercalifragilisticexpialidocious\, this heartwarming musical will sweep you off your feet and remind you that anything can happen if you let it.\nDirector: Rich Buckley\nMusic Director: Steve Belfer\nChoreographer: Renée Cerchia-Cohn\n  \nTickets: $29 for members\, seniors\, and students / $34 nonmembers\nGroup discounts available when purchased in advance\nSpread the love with a spoonful of kindness! Bring nonperishable items to donate to our Nikki Schwartz Memorial Community Needs Bank in the lobby during performance nights to support our neighbors in need.
URL:https://sjjcc.npgdev.com/event/mary-poppins-performance/2026-02-01/
LOCATION:Sid Jacobson JCC\, 300 Forest Dr\, East Hills\, NY\, 11548\, United States
CATEGORIES:Adults,Arts + Culture,Seniors,Special Events,Theatre
GEO:40.8050284;-73.6379839
X-APPLE-STRUCTURED-LOCATION;VALUE=URI;X-ADDRESS=Sid Jacobson JCC 300 Forest Dr East Hills NY 11548 United States;X-APPLE-RADIUS=500;X-TITLE=300 Forest Dr:geo:-73.6379839,40.8050284
END:VEVENT
BEGIN:VEVENT
DTSTART;TZID=America/New_York:20260211T113000
DTEND;TZID=America/New_York:20260211T113000
DTSTAMP:20260424T033205
CREATED:20251204T185533Z
LAST-MODIFIED:20260107T180709Z
UID:10140426-1770809400-1770809400@sjjcc.npgdev.com
SUMMARY:Buena Vista Social Club On Broadway
DESCRIPTION:Step into the vibrant heart of Havana in the captivating Tony Award-winning musical about big dreams and second chances. Inspired by the real-life 1996 recording session behind the Grammy-winning album\, the show blends Afro-Cuban music and dance with powerful storytelling\, bringing the rich history and spirit of Cuba’s legendary musicians to life.\nWEDNESDAY\, FEBRUARY 11\nBus departs SJJCC at 11:30am | Showtime 2pm\nIncludes boxed lunch and round-trip transportation\n$275 when purchased by 9am Friday\, December 19 ($285 after)\nRegister
URL:https://sjjcc.npgdev.com/event/buena-vista-social-club-on-broadway/
LOCATION:Sid Jacobson JCC\, 300 Forest Dr\, East Hills\, NY\, 11548\, United States
CATEGORIES:Adults,Arts + Culture
GEO:40.8050284;-73.6379839
X-APPLE-STRUCTURED-LOCATION;VALUE=URI;X-ADDRESS=Sid Jacobson JCC 300 Forest Dr East Hills NY 11548 United States;X-APPLE-RADIUS=500;X-TITLE=300 Forest Dr:geo:-73.6379839,40.8050284
END:VEVENT
BEGIN:VEVENT
DTSTART;TZID=America/New_York:20260215T120000
DTEND;TZID=America/New_York:20260215T150000
DTSTAMP:20260424T033205
CREATED:20251210T004944Z
LAST-MODIFIED:20260130T190754Z
UID:10140443-1771156800-1771167600@sjjcc.npgdev.com
SUMMARY:Finger Knitting Blanket Workshop
DESCRIPTION:Create a soft\, chunky throw while learning the art of finger knitting in this fun\, beginner-friendly workshop with a hot chocolate bar! All supplies included—bring your creativity. \n$125 members / $135 nonmembers \nAfter you register\, please select your colors from the chart below and email your choice to akurland@sjjcc.org. \n  \n \n  \n 
URL:https://sjjcc.npgdev.com/event/finger-knitting-blanket-workshop/
LOCATION:Sid Jacobson JCC\, 300 Forest Dr\, East Hills\, NY\, 11548\, United States
CATEGORIES:Adults,Arts + Culture
GEO:40.8050284;-73.6379839
X-APPLE-STRUCTURED-LOCATION;VALUE=URI;X-ADDRESS=Sid Jacobson JCC 300 Forest Dr East Hills NY 11548 United States;X-APPLE-RADIUS=500;X-TITLE=300 Forest Dr:geo:-73.6379839,40.8050284
END:VEVENT
BEGIN:VEVENT
DTSTART;TZID=America/New_York:20260215T130000
DTEND;TZID=America/New_York:20260215T130000
DTSTAMP:20260424T033205
CREATED:20190803T144401Z
LAST-MODIFIED:20250912T033610Z
UID:10140345-1771160400-1771160400@sjjcc.npgdev.com
SUMMARY:PFLAG
DESCRIPTION:PFLAG is dedicated to keeping families together when a loved one comes out as LGBTQ. Open group meetings or confidential helpline. For more information\, visit pflagli.org.\nSeptember 14\, 2025\nNovember 16\, 2025\nJanuary 11\, 2026\nMarch 15\, 2026\nMay 17\, 2026
URL:https://sjjcc.npgdev.com/event/pflag-2/2026-02-15/
LOCATION:Sid Jacobson JCC\, 300 Forest Dr\, East Hills\, NY\, 11548\, United States
CATEGORIES:Adults,Family,Seniors,Support Group,Teens
GEO:40.8050284;-73.6379839
X-APPLE-STRUCTURED-LOCATION;VALUE=URI;X-ADDRESS=Sid Jacobson JCC 300 Forest Dr East Hills NY 11548 United States;X-APPLE-RADIUS=500;X-TITLE=300 Forest Dr:geo:-73.6379839,40.8050284
END:VEVENT
BEGIN:VEVENT
DTSTART;TZID=America/New_York:20260217T140000
DTEND;TZID=America/New_York:20260217T170000
DTSTAMP:20260424T033205
CREATED:20260120T205522Z
LAST-MODIFIED:20260121T132301Z
UID:10141423-1771336800-1771347600@sjjcc.npgdev.com
SUMMARY:Mah Jongg Immersion
DESCRIPTION:Learn how to play the popular game everyone is talking about in four days using the official rules of the National Mah Jongg League.\nThe 2025 card is required for this class and can be purchased for $15. \nClass size limited. \n4 sessions\nTuesday\, February 17-Friday\, February 20\, 2-5pm\n$145 members / $195 nonmembers
URL:https://sjjcc.npgdev.com/event/mah-jongg-immersion/2026-02-17/
LOCATION:Sid Jacobson JCC\, 300 Forest Dr\, East Hills\, NY\, 11548\, United States
CATEGORIES:Adults,Arts + Culture,Seniors,Special Events,Verve 55+ Living
GEO:40.8050284;-73.6379839
X-APPLE-STRUCTURED-LOCATION;VALUE=URI;X-ADDRESS=Sid Jacobson JCC 300 Forest Dr East Hills NY 11548 United States;X-APPLE-RADIUS=500;X-TITLE=300 Forest Dr:geo:-73.6379839,40.8050284
END:VEVENT
BEGIN:VEVENT
DTSTART;TZID=America/New_York:20260218T140000
DTEND;TZID=America/New_York:20260218T170000
DTSTAMP:20260424T033205
CREATED:20260120T205522Z
LAST-MODIFIED:20260121T132301Z
UID:10141424-1771423200-1771434000@sjjcc.npgdev.com
SUMMARY:Mah Jongg Immersion
DESCRIPTION:Learn how to play the popular game everyone is talking about in four days using the official rules of the National Mah Jongg League.\nThe 2025 card is required for this class and can be purchased for $15. \nClass size limited. \n4 sessions\nTuesday\, February 17-Friday\, February 20\, 2-5pm\n$145 members / $195 nonmembers
URL:https://sjjcc.npgdev.com/event/mah-jongg-immersion/2026-02-18/
LOCATION:Sid Jacobson JCC\, 300 Forest Dr\, East Hills\, NY\, 11548\, United States
CATEGORIES:Adults,Arts + Culture,Seniors,Special Events,Verve 55+ Living
GEO:40.8050284;-73.6379839
X-APPLE-STRUCTURED-LOCATION;VALUE=URI;X-ADDRESS=Sid Jacobson JCC 300 Forest Dr East Hills NY 11548 United States;X-APPLE-RADIUS=500;X-TITLE=300 Forest Dr:geo:-73.6379839,40.8050284
END:VEVENT
BEGIN:VEVENT
DTSTART;TZID=America/New_York:20260219T140000
DTEND;TZID=America/New_York:20260219T170000
DTSTAMP:20260424T033205
CREATED:20260120T205522Z
LAST-MODIFIED:20260121T132301Z
UID:10141425-1771509600-1771520400@sjjcc.npgdev.com
SUMMARY:Mah Jongg Immersion
DESCRIPTION:Learn how to play the popular game everyone is talking about in four days using the official rules of the National Mah Jongg League.\nThe 2025 card is required for this class and can be purchased for $15. \nClass size limited. \n4 sessions\nTuesday\, February 17-Friday\, February 20\, 2-5pm\n$145 members / $195 nonmembers
URL:https://sjjcc.npgdev.com/event/mah-jongg-immersion/2026-02-19/
LOCATION:Sid Jacobson JCC\, 300 Forest Dr\, East Hills\, NY\, 11548\, United States
CATEGORIES:Adults,Arts + Culture,Seniors,Special Events,Verve 55+ Living
GEO:40.8050284;-73.6379839
X-APPLE-STRUCTURED-LOCATION;VALUE=URI;X-ADDRESS=Sid Jacobson JCC 300 Forest Dr East Hills NY 11548 United States;X-APPLE-RADIUS=500;X-TITLE=300 Forest Dr:geo:-73.6379839,40.8050284
END:VEVENT
BEGIN:VEVENT
DTSTART;TZID=America/New_York:20260220T140000
DTEND;TZID=America/New_York:20260220T170000
DTSTAMP:20260424T033205
CREATED:20260120T205522Z
LAST-MODIFIED:20260121T132301Z
UID:10141426-1771596000-1771606800@sjjcc.npgdev.com
SUMMARY:Mah Jongg Immersion
DESCRIPTION:Learn how to play the popular game everyone is talking about in four days using the official rules of the National Mah Jongg League.\nThe 2025 card is required for this class and can be purchased for $15. \nClass size limited. \n4 sessions\nTuesday\, February 17-Friday\, February 20\, 2-5pm\n$145 members / $195 nonmembers
URL:https://sjjcc.npgdev.com/event/mah-jongg-immersion/2026-02-20/
LOCATION:Sid Jacobson JCC\, 300 Forest Dr\, East Hills\, NY\, 11548\, United States
CATEGORIES:Adults,Arts + Culture,Seniors,Special Events,Verve 55+ Living
GEO:40.8050284;-73.6379839
X-APPLE-STRUCTURED-LOCATION;VALUE=URI;X-ADDRESS=Sid Jacobson JCC 300 Forest Dr East Hills NY 11548 United States;X-APPLE-RADIUS=500;X-TITLE=300 Forest Dr:geo:-73.6379839,40.8050284
END:VEVENT
BEGIN:VEVENT
DTSTART;TZID=America/New_York:20260226T143000
DTEND;TZID=America/New_York:20260226T153000
DTSTAMP:20260424T033205
CREATED:20251126T150000Z
LAST-MODIFIED:20251126T150044Z
UID:10140420-1772116200-1772119800@sjjcc.npgdev.com
SUMMARY:Craft A Moment for Adults 3-Part Series
DESCRIPTION:Tap into calm and focus through guided\, hands-on art. Create and reflect with painting\, drawing\, découpage\, and beading—no experience needed; materials provided.\nThursdays\, 2:30-3:30pm\nDecember 18\, January 22\, February 26\n $20 members / $40 nonmembers
URL:https://sjjcc.npgdev.com/event/craft-a-moment-for-adults-3-part-series/2026-02-26/
LOCATION:Sid Jacobson JCC\, 300 Forest Dr\, East Hills\, NY\, 11548\, United States
CATEGORIES:Adults,Center for Psychological Resilience
GEO:40.8050284;-73.6379839
X-APPLE-STRUCTURED-LOCATION;VALUE=URI;X-ADDRESS=Sid Jacobson JCC 300 Forest Dr East Hills NY 11548 United States;X-APPLE-RADIUS=500;X-TITLE=300 Forest Dr:geo:-73.6379839,40.8050284
END:VEVENT
END:VCALENDAR