BEGIN:VCALENDAR
VERSION:2.0
PRODID:-//Sid Jacobson JCC - ECPv6.15.14//NONSGML v1.0//EN
CALSCALE:GREGORIAN
METHOD:PUBLISH
X-ORIGINAL-URL:https://sjjcc.npgdev.com
X-WR-CALDESC:Events for Sid Jacobson JCC
REFRESH-INTERVAL;VALUE=DURATION:PT1H
X-Robots-Tag:noindex
X-PUBLISHED-TTL:PT1H
BEGIN:VTIMEZONE
TZID:America/New_York
BEGIN:DAYLIGHT
TZOFFSETFROM:-0500
TZOFFSETTO:-0400
TZNAME:EDT
DTSTART:20250309T070000
END:DAYLIGHT
BEGIN:STANDARD
TZOFFSETFROM:-0400
TZOFFSETTO:-0500
TZNAME:EST
DTSTART:20251102T060000
END:STANDARD
BEGIN:DAYLIGHT
TZOFFSETFROM:-0500
TZOFFSETTO:-0400
TZNAME:EDT
DTSTART:20260308T070000
END:DAYLIGHT
BEGIN:STANDARD
TZOFFSETFROM:-0400
TZOFFSETTO:-0500
TZNAME:EST
DTSTART:20261101T060000
END:STANDARD
BEGIN:DAYLIGHT
TZOFFSETFROM:-0500
TZOFFSETTO:-0400
TZNAME:EDT
DTSTART:20270314T070000
END:DAYLIGHT
BEGIN:STANDARD
TZOFFSETFROM:-0400
TZOFFSETTO:-0500
TZNAME:EST
DTSTART:20271107T060000
END:STANDARD
END:VTIMEZONE
BEGIN:VEVENT
DTSTART;TZID=America/New_York:20260416T080000
DTEND;TZID=America/New_York:20260416T170000
DTSTAMP:20260423T162902
CREATED:20260226T030819Z
LAST-MODIFIED:20260226T030819Z
UID:10141319-1776326400-1776358800@sjjcc.npgdev.com
SUMMARY:Executive Function 101: Focus\, Plan\, Thrive: 3-Part Series
DESCRIPTION:Learn practical\, brain-based tools to build habits\, manage time and tasks\, reduce stress\, and stay focused and in control—strategies you can use immediately.\nNEW: This class will be held via Zoom; however\, those interested in meeting in person should email mbirnbaum@sjjcc.org. Depending on interest\, we may be able to arrange for a group location to take the course together\n  \n  \nThursdays\, 7:15-8:15pm \nMarch 12\, March 26\, and April 16\n$75 members / $100 nonmembers
URL:https://sjjcc.npgdev.com/event/executive-function-101-focus-plan-thrive-3-part-series-2/2026-04-16/
LOCATION:Sid Jacobson JCC\, 300 Forest Dr\, East Hills\, NY\, 11548\, United States
CATEGORIES:Center for Psychological Resilience
GEO:40.8050284;-73.6379839
X-APPLE-STRUCTURED-LOCATION;VALUE=URI;X-ADDRESS=Sid Jacobson JCC 300 Forest Dr East Hills NY 11548 United States;X-APPLE-RADIUS=500;X-TITLE=300 Forest Dr:geo:-73.6379839,40.8050284
END:VEVENT
BEGIN:VEVENT
DTSTART;TZID=America/New_York:20260416T113000
DTEND;TZID=America/New_York:20260416T130000
DTSTAMP:20260423T162902
CREATED:20250610T174656Z
LAST-MODIFIED:20260129T150537Z
UID:10141443-1776339000-1776344400@sjjcc.npgdev.com
SUMMARY:Cancer Wellness: Coffee + Connection
DESCRIPTION:Join fellow cancer survivors in a safe\, supportive space to share your journey\, create beautiful art projects\, and connect with others who truly understand. Talk\, listen\, or simply be in the presence of those who understand—we welcome you with open arms. \nThursdays\, 11:30am-1pm \nAll programs and services offered by the Nancy Marx Cancer Wellness Center\, including our workshops\, are free of charge. To register for a featured event\, please contact Joy Rubel\, LMSW\, at jrubel@sjjcc.org
URL:https://sjjcc.npgdev.com/event/coffeeconnection/2026-04-16/
LOCATION:NY
CATEGORIES:Cancer Wellness Center
END:VEVENT
BEGIN:VEVENT
DTSTART;TZID=America/New_York:20260416T150000
DTEND;TZID=America/New_York:20260416T160000
DTSTAMP:20260423T162902
CREATED:20260128T212114Z
LAST-MODIFIED:20260128T212415Z
UID:10141437-1776351600-1776355200@sjjcc.npgdev.com
SUMMARY:Bank Notes
DESCRIPTION:Monthly card-making for our Nikki Schwartz Memorial Community Needs Bank and Food Pantry recipients. \nNo registration required; just stop by!
URL:https://sjjcc.npgdev.com/event/bank-notes/2026-04-16/
LOCATION:Sid Jacobson JCC\, 300 Forest Dr\, East Hills\, NY\, 11548\, United States
GEO:40.8050284;-73.6379839
X-APPLE-STRUCTURED-LOCATION;VALUE=URI;X-ADDRESS=Sid Jacobson JCC 300 Forest Dr East Hills NY 11548 United States;X-APPLE-RADIUS=500;X-TITLE=300 Forest Dr:geo:-73.6379839,40.8050284
END:VEVENT
END:VCALENDAR