BEGIN:VCALENDAR
VERSION:2.0
PRODID:-//Sid Jacobson JCC - ECPv6.15.14//NONSGML v1.0//EN
CALSCALE:GREGORIAN
METHOD:PUBLISH
X-ORIGINAL-URL:https://sjjcc.npgdev.com
X-WR-CALDESC:Events for Sid Jacobson JCC
REFRESH-INTERVAL;VALUE=DURATION:PT1H
X-Robots-Tag:noindex
X-PUBLISHED-TTL:PT1H
BEGIN:VTIMEZONE
TZID:America/New_York
BEGIN:DAYLIGHT
TZOFFSETFROM:-0500
TZOFFSETTO:-0400
TZNAME:EDT
DTSTART:20250309T070000
END:DAYLIGHT
BEGIN:STANDARD
TZOFFSETFROM:-0400
TZOFFSETTO:-0500
TZNAME:EST
DTSTART:20251102T060000
END:STANDARD
BEGIN:DAYLIGHT
TZOFFSETFROM:-0500
TZOFFSETTO:-0400
TZNAME:EDT
DTSTART:20260308T070000
END:DAYLIGHT
BEGIN:STANDARD
TZOFFSETFROM:-0400
TZOFFSETTO:-0500
TZNAME:EST
DTSTART:20261101T060000
END:STANDARD
BEGIN:DAYLIGHT
TZOFFSETFROM:-0500
TZOFFSETTO:-0400
TZNAME:EDT
DTSTART:20270314T070000
END:DAYLIGHT
BEGIN:STANDARD
TZOFFSETFROM:-0400
TZOFFSETTO:-0500
TZNAME:EST
DTSTART:20271107T060000
END:STANDARD
END:VTIMEZONE
BEGIN:VEVENT
DTSTART;TZID=America/New_York:20260208T100000
DTEND;TZID=America/New_York:20260208T120000
DTSTAMP:20260424T011420
CREATED:20260130T180009Z
LAST-MODIFIED:20260130T180009Z
UID:10141455-1770544800-1770552000@sjjcc.npgdev.com
SUMMARY:Curb Your Mitzvah
DESCRIPTION:Help us stock the shelves of our Nikki Schwartz Memorial Community Needs Bank by donating to help our neighbors in need at one of our monthly food and supply drives. \nSID JACOBSON JCC ANNEX\n200 FOREST DRIVE\, SUITE 11
URL:https://sjjcc.npgdev.com/event/curb-your-mitzvah/2026-02-08/
LOCATION:Sid Jacobson JCC\, 300 Forest Dr\, East Hills\, NY\, 11548\, United States
CATEGORIES:Center for Community Engagement
GEO:40.8050284;-73.6379839
X-APPLE-STRUCTURED-LOCATION;VALUE=URI;X-ADDRESS=Sid Jacobson JCC 300 Forest Dr East Hills NY 11548 United States;X-APPLE-RADIUS=500;X-TITLE=300 Forest Dr:geo:-73.6379839,40.8050284
END:VEVENT
BEGIN:VEVENT
DTSTART;TZID=America/New_York:20260208T113000
DTEND;TZID=America/New_York:20260208T140000
DTSTAMP:20260424T011420
CREATED:20260122T151719Z
LAST-MODIFIED:20260123T212009Z
UID:10141428-1770550200-1770559200@sjjcc.npgdev.com
SUMMARY:Winter Melodies with Little Maestros: Music\, Lunch & Play
DESCRIPTION:Ages: Birth-5 years \nSPEND YOUR DAY AT SJJCC!\nGet ready to sing\, dance\, and move to your favorite Little Maestros tunes! Enjoy an interactive show with puppets\, bubbles\, and hands-on instrument fun—perfect for the whole family and guaranteed to bring big smiles. A lite lunch will be provided after the concert\, followed by playtime in the Rosenman Family Gym! \n$40 members / $45 nonmembers per family
URL:https://sjjcc.npgdev.com/event/winter-melodies-with-little-maestros-february/
LOCATION:Sid Jacobson JCC\, 300 Forest Dr\, East Hills\, NY\, 11548\, United States
CATEGORIES:Early Childhood,Family,Parent Engagement + Education
GEO:40.8050284;-73.6379839
X-APPLE-STRUCTURED-LOCATION;VALUE=URI;X-ADDRESS=Sid Jacobson JCC 300 Forest Dr East Hills NY 11548 United States;X-APPLE-RADIUS=500;X-TITLE=300 Forest Dr:geo:-73.6379839,40.8050284
END:VEVENT
BEGIN:VEVENT
DTSTART;TZID=America/New_York:20260208T190000
DTEND;TZID=America/New_York:20260208T210000
DTSTAMP:20260424T011420
CREATED:20260122T195511Z
LAST-MODIFIED:20260122T195736Z
UID:10141429-1770577200-1770584400@sjjcc.npgdev.com
SUMMARY:Maccabi Games 15U Boys Baseball Tryouts
DESCRIPTION:Be a part of the incredible Olympic-style event for Jewish teens in Kansas City\, KS\, this summer\, Friday\, July 31-Friday\, August 7! These tryouts are open to teens ages 13-15 years (born between August 7\, 2011-August 1\, 2013).
URL:https://sjjcc.npgdev.com/event/maccabi-games-15u-boys-baseball-tryouts/2026-02-08/
LOCATION:NY\, United States
CATEGORIES:Maccabi,Sports,Teens
END:VEVENT
END:VCALENDAR