BEGIN:VCALENDAR
VERSION:2.0
PRODID:-//Sid Jacobson JCC - ECPv6.15.14//NONSGML v1.0//EN
CALSCALE:GREGORIAN
METHOD:PUBLISH
X-WR-CALNAME:Sid Jacobson JCC
X-ORIGINAL-URL:https://sjjcc.npgdev.com
X-WR-CALDESC:Events for Sid Jacobson JCC
REFRESH-INTERVAL;VALUE=DURATION:PT1H
X-Robots-Tag:noindex
X-PUBLISHED-TTL:PT1H
BEGIN:VTIMEZONE
TZID:America/New_York
BEGIN:DAYLIGHT
TZOFFSETFROM:-0500
TZOFFSETTO:-0400
TZNAME:EDT
DTSTART:20240310T070000
END:DAYLIGHT
BEGIN:STANDARD
TZOFFSETFROM:-0400
TZOFFSETTO:-0500
TZNAME:EST
DTSTART:20241103T060000
END:STANDARD
BEGIN:DAYLIGHT
TZOFFSETFROM:-0500
TZOFFSETTO:-0400
TZNAME:EDT
DTSTART:20250309T070000
END:DAYLIGHT
BEGIN:STANDARD
TZOFFSETFROM:-0400
TZOFFSETTO:-0500
TZNAME:EST
DTSTART:20251102T060000
END:STANDARD
BEGIN:DAYLIGHT
TZOFFSETFROM:-0500
TZOFFSETTO:-0400
TZNAME:EDT
DTSTART:20260308T070000
END:DAYLIGHT
BEGIN:STANDARD
TZOFFSETFROM:-0400
TZOFFSETTO:-0500
TZNAME:EST
DTSTART:20261101T060000
END:STANDARD
END:VTIMEZONE
BEGIN:VEVENT
DTSTART;TZID=America/New_York:20250928T090000
DTEND;TZID=America/New_York:20250928T140000
DTSTAMP:20260421T154107
CREATED:20240819T222352Z
LAST-MODIFIED:20250610T175854Z
UID:90391-1759050000-1759068000@sjjcc.npgdev.com
SUMMARY:RELAX\, RESTORE\, RENEW\, RETREAT
DESCRIPTION:Reconnect\, rejuvenate\, and celebrate life at our annual retreat from cancer\, featuring classes designed to move\, engage\, and nurture your mind\, body\, and spirit.\nAt Shibley Day Camp\, 175 Warner Avenue\, Roslyn Heights\n  \nAll Nancy Marx Cancer Wellness Center workshops are completely free of charge. Advance registration is required to Joy Rubel\, jrubel@sjjcc.org\n 
URL:https://sjjcc.npgdev.com/event/relax-restore-renew-retreat/
LOCATION:Shibley Day Camp\, 175 Warner Ave\, Roslyn\, NY\, 11577\, United States
END:VEVENT
END:VCALENDAR