BEGIN:VCALENDAR
VERSION:2.0
PRODID:-//Sid Jacobson JCC - ECPv6.15.14//NONSGML v1.0//EN
CALSCALE:GREGORIAN
METHOD:PUBLISH
X-WR-CALNAME:Sid Jacobson JCC
X-ORIGINAL-URL:https://sjjcc.npgdev.com
X-WR-CALDESC:Events for Sid Jacobson JCC
REFRESH-INTERVAL;VALUE=DURATION:PT1H
X-Robots-Tag:noindex
X-PUBLISHED-TTL:PT1H
BEGIN:VTIMEZONE
TZID:America/New_York
BEGIN:DAYLIGHT
TZOFFSETFROM:-0500
TZOFFSETTO:-0400
TZNAME:EDT
DTSTART:20240310T070000
END:DAYLIGHT
BEGIN:STANDARD
TZOFFSETFROM:-0400
TZOFFSETTO:-0500
TZNAME:EST
DTSTART:20241103T060000
END:STANDARD
BEGIN:DAYLIGHT
TZOFFSETFROM:-0500
TZOFFSETTO:-0400
TZNAME:EDT
DTSTART:20250309T070000
END:DAYLIGHT
BEGIN:STANDARD
TZOFFSETFROM:-0400
TZOFFSETTO:-0500
TZNAME:EST
DTSTART:20251102T060000
END:STANDARD
BEGIN:DAYLIGHT
TZOFFSETFROM:-0500
TZOFFSETTO:-0400
TZNAME:EDT
DTSTART:20260308T070000
END:DAYLIGHT
BEGIN:STANDARD
TZOFFSETFROM:-0400
TZOFFSETTO:-0500
TZNAME:EST
DTSTART:20261101T060000
END:STANDARD
END:VTIMEZONE
BEGIN:VEVENT
DTSTART;TZID=America/New_York:20250129T190000
DTEND;TZID=America/New_York:20250129T210000
DTSTAMP:20260421T172818
CREATED:20241226T201307Z
LAST-MODIFIED:20241226T201307Z
UID:91243-1738177200-1738184400@sjjcc.npgdev.com
SUMMARY:Movie Club: The Joy Luck Club
DESCRIPTION:In honor of Lunar New Year\, join us to watch this emotional film about a group of Chinese women sharing family stories over a game of Mah Jongg. \nFree for members / $5 nonmembers
URL:https://sjjcc.npgdev.com/event/movie-club-the-joy-luck-club/
LOCATION:Sid Jacobson JCC\, 300 Forest Dr\, East Hills\, NY\, 11548\, United States
CATEGORIES:Arts + Culture,Seniors
GEO:40.8050284;-73.6379839
X-APPLE-STRUCTURED-LOCATION;VALUE=URI;X-ADDRESS=Sid Jacobson JCC 300 Forest Dr East Hills NY 11548 United States;X-APPLE-RADIUS=500;X-TITLE=300 Forest Dr:geo:-73.6379839,40.8050284
END:VEVENT
END:VCALENDAR