BEGIN:VCALENDAR
VERSION:2.0
PRODID:-//Sid Jacobson JCC - ECPv6.15.14//NONSGML v1.0//EN
CALSCALE:GREGORIAN
METHOD:PUBLISH
X-WR-CALNAME:Sid Jacobson JCC
X-ORIGINAL-URL:https://sjjcc.npgdev.com
X-WR-CALDESC:Events for Sid Jacobson JCC
REFRESH-INTERVAL;VALUE=DURATION:PT1H
X-Robots-Tag:noindex
X-PUBLISHED-TTL:PT1H
BEGIN:VTIMEZONE
TZID:America/New_York
BEGIN:DAYLIGHT
TZOFFSETFROM:-0500
TZOFFSETTO:-0400
TZNAME:EDT
DTSTART:20240310T070000
END:DAYLIGHT
BEGIN:STANDARD
TZOFFSETFROM:-0400
TZOFFSETTO:-0500
TZNAME:EST
DTSTART:20241103T060000
END:STANDARD
BEGIN:DAYLIGHT
TZOFFSETFROM:-0500
TZOFFSETTO:-0400
TZNAME:EDT
DTSTART:20250309T070000
END:DAYLIGHT
BEGIN:STANDARD
TZOFFSETFROM:-0400
TZOFFSETTO:-0500
TZNAME:EST
DTSTART:20251102T060000
END:STANDARD
BEGIN:DAYLIGHT
TZOFFSETFROM:-0500
TZOFFSETTO:-0400
TZNAME:EDT
DTSTART:20260308T070000
END:DAYLIGHT
BEGIN:STANDARD
TZOFFSETFROM:-0400
TZOFFSETTO:-0500
TZNAME:EST
DTSTART:20261101T060000
END:STANDARD
END:VTIMEZONE
BEGIN:VEVENT
DTSTART;TZID=America/New_York:20251004T090000
DTEND;TZID=America/New_York:20251004T190000
DTSTAMP:20260424T042836
CREATED:20250926T160810Z
LAST-MODIFIED:20250926T163928Z
UID:92303-1759568400-1759604400@sjjcc.npgdev.com
SUMMARY:2025 DRAGON BOAT & LANTERN FESTIVAL!
DESCRIPTION:Cheer on our team\, Bagels and Bao\, as we compete in the 2025 Dragon Boat Race! Enjoy traditional music\, dance\, and hands-on activities that honor Chinese artistry. \nFestival Highlights: \n9am–4pm: Dragon Boat Races\n10am & 1:30pm: Live Performances\n4pm: Award Ceremony\n5pm: Lantern Festival
URL:https://sjjcc.npgdev.com/event/2025-dragon-boat-lantern-festival/
LOCATION:North Hempstead Beach Park\, 175 West Shore Road\, Port Washington\, NY\, 11050\, United States
END:VEVENT
END:VCALENDAR